Workbook
Name prevWBS: 'Gantt Chart'!$A1048576
Name valuevx: 42.314159

Sheet Overview
A2: Threat Identification, Analysis and Risk Assessment (TIARA) Project Delivery Plan
A3: Company Name | B3: ABC Company
A4: Document Name | B4: Threat Identification, Analysis and Risk Assessment (TIARA) Delivery Plan
A5: Document ID | B5: TRA-01-01-01
A6: Version | B6: 1
A7: Date | B7: =TODAY() -> 43916
A8: Created By | B8: XXXX
A9: Reviewed By | B9: XXXX

Sheet Gantt Chart
A1: TIARA Service Project Schedule
A2: ABC Company
B4: Project Start Date | C4: 43910 | G4: Display Week | H4: 1 | K4: ="Week "&(K6-($C$4-WEEKDAY($C$4,1)+2))/7+1 -> Week 1 | R4: ="Week "&(R6-($C$4-WEEKDAY($C$4,1)+2))/7+1 -> Week 2 | Y4: ="Week "&(Y6-($C$4-WEEKDAY($C$4,1)+2))/7+1 -> Week 3 | AF4: ="Week "&(AF6-($C$4-WEEKDAY($C$4,1)+2))/7+1 -> Week 4 | AM4: ="Week "&(AM6-($C$4-WEEKDAY($C$4,1)+2))/7+1 -> Week 5 | AT4: ="Week "&(AT6-($C$4-WEEKDAY($C$4,1)+2))/7+1 -> Week 6 | BA4: ="Week "&(BA6-($C$4-WEEKDAY($C$4,1)+2))/7+1 -> Week 7 | BH4: ="Week "&(BH6-($C$4-WEEKDAY($C$4,1)+2))/7+1 -> Week 8
B5: Project Lead | C5: Jeffrey Lee | K5: =K6 -> 43906 | R5: =R6 -> 43913 | Y5: =Y6 -> 43920 | AF5: =AF6 -> 43927 | AM5: =AM6 -> 43934 | AT5: =AT6 -> 43941 | BA5: =BA6 -> 43948 | BH5: =BH6 -> 43955
K6: =C4-WEEKDAY(C4,1)+2+7*(H4-1) -> 43906 | L6: =K6+1 -> 43907 | M6: =L6+1 -> 43908 | N6: =M6+1 -> 43909 | O6: =N6+1 -> 43910 | P6: =O6+1 -> 43911 | Q6: =P6+1 -> 43912 | R6: =Q6+1 -> 43913 | S6: =R6+1 -> 43914 | ... BN6: =BM6+1 -> 43961
A7: WBS | B7: TASK | C7: LEAD | D7: PREDECESSOR | E7: START | F7: END | G7: DAYS | H7: % DONE | I7: WORK DAYS | K7: =CHOOSE(WEEKDAY(K6,1),"S","M","T","W","T","F","S") -> M | L7: =CHOOSE(WEEKDAY(L6,1),"S","M","T","W","T","F","S") -> T | M7: =CHOOSE(WEEKDAY(M6,1),"S","M","T","W","T","F","S") -> W | N7: =CHOOSE(WEEKDAY(N6,1),"S","M","T","W","T","F","S") -> T | O7: =CHOOSE(WEEKDAY(O6,1),"S","M","T","W","T","F","S") -> F | P7: =CHOOSE(WEEKDAY(P6,1),"S","M","T","W","T","F","S") -> S | Q7: =CHOOSE(WEEKDAY(Q6,1),"S","M","T","W","T","F","S") -> S | R7: =CHOOSE(WEEKDAY(R6,1),"S","M","T","W","T","F","S") -> M | ... BN7: =CHOOSE(WEEKDAY(BN6,1),"S","M","T","W","T","F","S") -> S
A8: =IF(ISERROR(VALUE(SUBSTITUTE(prevWBS,".",""))),"1",IF(ISERROR(FIND("`",SUBSTITUTE(prevWBS,".","`",1))),TEXT(VALUE(prevWBS)+1,"#"),TEXT(VALUE(LEFT(prevWBS,FIND("`",SUBSTITUTE(prevWBS,".","`",1))-1))+1,"#"))) -> 1 | B8: Kick Off Meeting | F8: =IF(ISBLANK(E8)," - ",IF(G8=0,E8,E8+G8-1)) -> - | I8: =IF(OR(F8=0,E8=0)," - ",NETWORKDAYS(E8,F8)) -> -
A9: =IF(ISERROR(VALUE(SUBSTITUTE(prevWBS,".",""))),"0.1",IF(ISERROR(FIND("`",SUBSTITUTE(prevWBS,".","`",1))),prevWBS&".1",LEFT(prevWBS,FIND("`",SUBSTITUTE(prevWBS,".","`",1)))&IF(ISERROR(FIND("`",SUBSTITUTE(prevWBS,".","`",2))),VALUE(RIGHT(prevWBS,LEN(prevWBS)-FIND("`",SUBSTITUTE(prevWBS,".","`",1))))+1,VALUE(MID(prevWBS,FIND("`",SUBSTITUTE(prevWBS,".","`",1))+1,(FIND("`",SUBSTITUTE(prevWBS,".","`",2))-FIND("`",SUBSTITUTE(prevWBS,".","`",1))-1)))+1))) -> 1.1 | B9: Define service scope, service content and delivery plan | C9: XXX | D9: XXX | E9: 43910 | F9: =IF(ISBLANK(E9)," - ",IF(G9=0,E9,E9+G9-1)) -> 43910 | G9: 1 | H9: 0 | I9: =IF(OR(F9=0,E9=0)," - ",NETWORKDAYS(E9,F9)) -> 1
A10: =IF(ISERROR(VALUE(SUBSTITUTE(prevWBS,".",""))),"0.1",IF(ISERROR(FIND("`",SUBSTITUTE(prevWBS,".","`",1))),prevWBS&".1",LEFT(prevWBS,FIND("`",SUBSTITUTE(prevWBS,".","`",1)))&IF(ISERROR(FIND("`",SUBSTITUTE(prevWBS,".","`",2))),VALUE(RIGHT(prevWBS,LEN(prevWBS)-FIND("`",SUBSTITUTE(prevWBS,".","`",1))))+1,VALUE(MID(prevWBS,FIND("`",SUBSTITUTE(prevWBS,".","`",1))+1,(FIND("`",SUBSTITUTE(prevWBS,".","`",2))-FIND("`",SUBSTITUTE(prevWBS,".","`",1))-1)))+1))) -> 1.2 | B10: Gather end user requirements | C10: XXX | D10: XXX | E10: 43910 | F10: =IF(ISBLANK(E10)," - ",IF(G10=0,E10,E10+G10-1)) -> 43910 | G10: 1 | H10: 0 | I10: =IF(OR(F10=0,E10=0)," - ",NETWORKDAYS(E10,F10)) -> 1
A11: =IF(ISERROR(VALUE(SUBSTITUTE(prevWBS,".",""))),"0.1",IF(ISERROR(FIND("`",SUBSTITUTE(prevWBS,".","`",1))),prevWBS&".1",LEFT(prevWBS,FIND("`",SUBSTITUTE(prevWBS,".","`",1)))&IF(ISERROR(FIND("`",SUBSTITUTE(prevWBS,".","`",2))),VALUE(RIGHT(prevWBS,LEN(prevWBS)-FIND("`",SUBSTITUTE(prevWBS,".","`",1))))+1,VALUE(MID(prevWBS,FIND("`",SUBSTITUTE(prevWBS,".","`",1))+1,(FIND("`",SUBSTITUTE(prevWBS,".","`",2))-FIND("`",SUBSTITUTE(prevWBS,".","`",1))-1)))+1))) -> 1.3 | B11: Confirm end user's network architecture | C11: XXX | D11: XXX | E11: 43910 | F11: =IF(ISBLANK(E11)," - ",IF(G11=0,E11,E11+G11-1)) -> 43910 | G11: 1 | H11: 0 | I11: =IF(OR(F11=0,E11=0)," - ",NETWORKDAYS(E11,F11)) -> 1
A12: =IF(ISERROR(VALUE(SUBSTITUTE(prevWBS,".",""))),"1",IF(ISERROR(FIND("`",SUBSTITUTE(prevWBS,".","`",1))),TEXT(VALUE(prevWBS)+1,"#"),TEXT(VALUE(LEFT(prevWBS,FIND("`",SUBSTITUTE(prevWBS,".","`",1))-1))+1,"#"))) -> 2 | B12: Service Components Mounting | F12: =IF(ISBLANK(E12)," - ",IF(G12=0,E12,E12+G12-1)) -> - | I12: =IF(OR(F12=0,E12=0)," - ",NETWORKDAYS(E12,F12)) -> -
A13: =IF(ISERROR(VALUE(SUBSTITUTE(prevWBS,".",""))),"0.1",IF(ISERROR(FIND("`",SUBSTITUTE(prevWBS,".","`",1))),prevWBS&".1",LEFT(prevWBS,FIND("`",SUBSTITUTE(prevWBS,".","`",1)))&IF(ISERROR(FIND("`",SUBSTITUTE(prevWBS,".","`",2))),VALUE(RIGHT(prevWBS,LEN(prevWBS)-FIND("`",SUBSTITUTE(prevWBS,".","`",1))))+1,VALUE(MID(prevWBS,FIND("`",SUBSTITUTE(prevWBS,".","`",1))+1,(FIND("`",SUBSTITUTE(prevWBS,".","`",2))-FIND("`",SUBSTITUTE(prevWBS,".","`",1))-1)))+1))) -> 2.1 | B13: Mount service components | C13: XXX | D13: XXX | E13: 43914 | F13: =IF(ISBLANK(E13)," - ",IF(G13=0,E13,E13+G13-1)) -> 43914 | G13: 1 | H13: 0 | I13: =IF(OR(F13=0,E13=0)," - ",NETWORKDAYS(E13,F13)) -> 1
A14: =IF(ISERROR(VALUE(SUBSTITUTE(prevWBS,".",""))),"0.1",IF(ISERROR(FIND("`",SUBSTITUTE(prevWBS,".","`",1))),prevWBS&".1",LEFT(prevWBS,FIND("`",SUBSTITUTE(prevWBS,".","`",1)))&IF(ISERROR(FIND("`",SUBSTITUTE(prevWBS,".","`",2))),VALUE(RIGHT(prevWBS,LEN(prevWBS)-FIND("`",SUBSTITUTE(prevWBS,".","`",1))))+1,VALUE(MID(prevWBS,FIND("`",SUBSTITUTE(prevWBS,".","`",1))+1,(FIND("`",SUBSTITUTE(prevWBS,".","`",2))-FIND("`",SUBSTITUTE(prevWBS,".","`",1))-1)))+1))) -> 2.2 | B14: Configure the settings of components ensure connectivity in order | C14: XXX | D14: XXX | E14: 43914 | F14: =IF(ISBLANK(E14)," - ",IF(G14=0,E14,E14+G14-1)) -> 43914 | G14: 1 | H14: 0 | I14: =IF(OR(F14=0,E14=0)," - ",NETWORKDAYS(E14,F14)) -> 1
A15: =IF(ISERROR(VALUE(SUBSTITUTE(prevWBS,".",""))),"0.1",IF(ISERROR(FIND("`",SUBSTITUTE(prevWBS,".","`",1))),prevWBS&".1",LEFT(prevWBS,FIND("`",SUBSTITUTE(prevWBS,".","`",1)))&IF(ISERROR(FIND("`",SUBSTITUTE(prevWBS,".","`",2))),VALUE(RIGHT(prevWBS,LEN(prevWBS)-FIND("`",SUBSTITUTE(prevWBS,".","`",1))))+1,VALUE(MID(prevWBS,FIND("`",SUBSTITUTE(prevWBS,".","`",1))+1,(FIND("`",SUBSTITUTE(prevWBS,".","`",2))-FIND("`",SUBSTITUTE(prevWBS,".","`",1))-1)))+1))) -> 2.3 | B15: Verify licenses, serial number, policies and rule base are in order | C15: XXX | D15: XXX | E15: 43914 | F15: =IF(ISBLANK(E15)," - ",IF(G15=0,E15,E15+G15-1)) -> 43914 | G15: 1 | H15: 0 | I15: =IF(OR(F15=0,E15=0)," - ",NETWORKDAYS(E15,F15)) -> 1
A16: =IF(ISERROR(VALUE(SUBSTITUTE(prevWBS,".",""))),"0.1",IF(ISERROR(FIND("`",SUBSTITUTE(prevWBS,".","`",1))),prevWBS&".1",LEFT(prevWBS,FIND("`",SUBSTITUTE(prevWBS,".","`",1)))&IF(ISERROR(FIND("`",SUBSTITUTE(prevWBS,".","`",2))),VALUE(RIGHT(prevWBS,LEN(prevWBS)-FIND("`",SUBSTITUTE(prevWBS,".","`",1))))+1,VALUE(MID(prevWBS,FIND("`",SUBSTITUTE(prevWBS,".","`",1))+1,(FIND("`",SUBSTITUTE(prevWBS,".","`",2))-FIND("`",SUBSTITUTE(prevWBS,".","`",1))-1)))+1))) -> 2.4 | B16: Fine tuning service to ensure no false positives | C16: XXX | D16: XXX | E16: 43917 | F16: =IF(ISBLANK(E16)," - ",IF(G16=0,E16,E16+G16-1)) -> 43917 | G16: 1 | H16: 0 | I16: =IF(OR(F16=0,E16=0)," - ",NETWORKDAYS(E16,F16)) -> 1
A17: =IF(ISERROR(VALUE(SUBSTITUTE(prevWBS,".",""))),"1",IF(ISERROR(FIND("`",SUBSTITUTE(prevWBS,".","`",1))),TEXT(VALUE(prevWBS)+1,"#"),TEXT(VALUE(LEFT(prevWBS,FIND("`",SUBSTITUTE(prevWBS,".","`",1))-1))+1,"#"))) -> 3 | B17: Threat Monitoring and Analysis Service | F17: =IF(ISBLANK(E17)," - ",IF(G17=0,E17,E17+G17-1)) -> - | I17: =IF(OR(F17=0,E17=0)," - ",NETWORKDAYS(E17,F17)) -> -
A18: =IF(ISERROR(VALUE(SUBSTITUTE(prevWBS,".",""))),"0.1",IF(ISERROR(FIND("`",SUBSTITUTE(prevWBS,".","`",1))),prevWBS&".1",LEFT(prevWBS,FIND("`",SUBSTITUTE(prevWBS,".","`",1)))&IF(ISERROR(FIND("`",SUBSTITUTE(prevWBS,".","`",2))),VALUE(RIGHT(prevWBS,LEN(prevWBS)-FIND("`",SUBSTITUTE(prevWBS,".","`",1))))+1,VALUE(MID(prevWBS,FIND("`",SUBSTITUTE(prevWBS,".","`",1))+1,(FIND("`",SUBSTITUTE(prevWBS,".","`",2))-FIND("`",SUBSTITUTE(prevWBS,".","`",1))-1)))+1))) -> 3.1 | B18: Network threat monitoring and analysis | C18: XXX | D18: XXX | E18: 43914 | F18: =IF(ISBLANK(E18)," - ",IF(G18=0,E18,E18+G18-1)) -> 43927 | G18: 14 | H18: 0 | I18: =IF(OR(F18=0,E18=0)," - ",NETWORKDAYS(E18,F18)) -> 10
A19: 3.2 | B19: Onsite deep threat analysis | C19: XXX | D19: XXX | E19: 43927 | F19: =IF(ISBLANK(E19)," - ",IF(G19=0,E19,E19+G19-1)) -> 43929 | G19: 3 | H19: 0 | I19: =IF(OR(F19=0,E19=0)," - ",NETWORKDAYS(E19,F19)) -> 3
A20: =IF(ISERROR(VALUE(SUBSTITUTE(prevWBS,".",""))),"0.1",IF(ISERROR(FIND("`",SUBSTITUTE(prevWBS,".","`",1))),prevWBS&".1",LEFT(prevWBS,FIND("`",SUBSTITUTE(prevWBS,".","`",1)))&IF(ISERROR(FIND("`",SUBSTITUTE(prevWBS,".","`",2))),VALUE(RIGHT(prevWBS,LEN(prevWBS)-FIND("`",SUBSTITUTE(prevWBS,".","`",1))))+1,VALUE(MID(prevWBS,FIND("`",SUBSTITUTE(prevWBS,".","`",1))+1,(FIND("`",SUBSTITUTE(prevWBS,".","`",2))-FIND("`",SUBSTITUTE(prevWBS,".","`",1))-1)))+1))) -> 3.3 | B20: Onsite security event diagnosis | C20: XXX | D20: XXX | E20: 43927 | F20: =IF(ISBLANK(E20)," - ",IF(G20=0,E20,E20+G20-1)) -> 43929 | G20: 3 | H20: 0 | I20: =IF(OR(F20=0,E20=0)," - ",NETWORKDAYS(E20,F20)) -> 3
A21: =IF(ISERROR(VALUE(SUBSTITUTE(prevWBS,".",""))),"0.1",IF(ISERROR(FIND("`",SUBSTITUTE(prevWBS,".","`",1))),prevWBS&".1",LEFT(prevWBS,FIND("`",SUBSTITUTE(prevWBS,".","`",1)))&IF(ISERROR(FIND("`",SUBSTITUTE(prevWBS,".","`",2))),VALUE(RIGHT(prevWBS,LEN(prevWBS)-FIND("`",SUBSTITUTE(prevWBS,".","`",1))))+1,VALUE(MID(prevWBS,FIND("`",SUBSTITUTE(prevWBS,".","`",1))+1,(FIND("`",SUBSTITUTE(prevWBS,".","`",2))-FIND("`",SUBSTITUTE(prevWBS,".","`",1))-1)))+1))) -> 3.4 | B21: Technical discussion | C21: XXX | D21: XXX | E21: 43930 | F21: =IF(ISBLANK(E21)," - ",IF(G21=0,E21,E21+G21-1)) -> 43930 | G21: 1 | H21: 0 | I21: =IF(OR(F21=0,E21=0)," - ",NETWORKDAYS(E21,F21)) -> 1
A22: =IF(ISERROR(VALUE(SUBSTITUTE(prevWBS,".",""))),"1",IF(ISERROR(FIND("`",SUBSTITUTE(prevWBS,".","`",1))),TEXT(VALUE(prevWBS)+1,"#"),TEXT(VALUE(LEFT(prevWBS,FIND("`",SUBSTITUTE(prevWBS,".","`",1))-1))+1,"#"))) -> 4 | B22: Executives Presentation | F22: =IF(ISBLANK(E22)," - ",IF(G22=0,E22,E22+G22-1)) -> - | I22: =IF(OR(F22=0,E22=0)," - ",NETWORKDAYS(E22,F22)) -> -
A23: =IF(ISERROR(VALUE(SUBSTITUTE(prevWBS,".",""))),"0.1",IF(ISERROR(FIND("`",SUBSTITUTE(prevWBS,".","`",1))),prevWBS&".1",LEFT(prevWBS,FIND("`",SUBSTITUTE(prevWBS,".","`",1)))&IF(ISERROR(FIND("`",SUBSTITUTE(prevWBS,".","`",2))),VALUE(RIGHT(prevWBS,LEN(prevWBS)-FIND("`",SUBSTITUTE(prevWBS,".","`",1))))+1,VALUE(MID(prevWBS,FIND("`",SUBSTITUTE(prevWBS,".","`",1))+1,(FIND("`",SUBSTITUTE(prevWBS,".","`",2))-FIND("`",SUBSTITUTE(prevWBS,".","`",1))-1)))+1))) -> 4.1 | B23: Report preparation | C23: XXX | D23: XXX | E23: 43931 | F23: =IF(ISBLANK(E23)," - ",IF(G23=0,E23,E23+G23-1)) -> 43936 | G23: 6 | H23: 0 | I23: =IF(OR(F23=0,E23=0)," - ",NETWORKDAYS(E23,F23)) -> 4
A24: =IF(ISERROR(VALUE(SUBSTITUTE(prevWBS,".",""))),"0.1",IF(ISERROR(FIND("`",SUBSTITUTE(prevWBS,".","`",1))),prevWBS&".1",LEFT(prevWBS,FIND("`",SUBSTITUTE(prevWBS,".","`",1)))&IF(ISERROR(FIND("`",SUBSTITUTE(prevWBS,".","`",2))),VALUE(RIGHT(prevWBS,LEN(prevWBS)-FIND("`",SUBSTITUTE(prevWBS,".","`",1))))+1,VALUE(MID(prevWBS,FIND("`",SUBSTITUTE(prevWBS,".","`",1))+1,(FIND("`",SUBSTITUTE(prevWBS,".","`",2))-FIND("`",SUBSTITUTE(prevWBS,".","`",1))-1)))+1))) -> 4.2 | B24: Business Impact Analysis (BIA) | C24: XXX | D24: XXX | E24: 43931 | F24: =IF(ISBLANK(E24)," - ",IF(G24=0,E24,E24+G24-1)) -> 43931 | G24: 1 | H24: 0 | I24: =IF(OR(F24=0,E24=0)," - ",NETWORKDAYS(E24,F24)) -> 1
A25: =IF(ISERROR(VALUE(SUBSTITUTE(prevWBS,".",""))),"0.1",IF(ISERROR(FIND("`",SUBSTITUTE(prevWBS,".","`",1))),prevWBS&".1",LEFT(prevWBS,FIND("`",SUBSTITUTE(prevWBS,".","`",1)))&IF(ISERROR(FIND("`",SUBSTITUTE(prevWBS,".","`",2))),VALUE(RIGHT(prevWBS,LEN(prevWBS)-FIND("`",SUBSTITUTE(prevWBS,".","`",1))))+1,VALUE(MID(prevWBS,FIND("`",SUBSTITUTE(prevWBS,".","`",1))+1,(FIND("`",SUBSTITUTE(prevWBS,".","`",2))-FIND("`",SUBSTITUTE(prevWBS,".","`",1))-1)))+1))) -> 4.3 | B25: Gap analysis | C25: XXX | D25: XXX | E25: 43934 | F25: =IF(ISBLANK(E25)," - ",IF(G25=0,E25,E25+G25-1)) -> 43934 | G25: 1 | H25: 0 | I25: =IF(OR(F25=0,E25=0)," - ",NETWORKDAYS(E25,F25)) -> 1
A26: =IF(ISERROR(VALUE(SUBSTITUTE(prevWBS,".",""))),"0.1",IF(ISERROR(FIND("`",SUBSTITUTE(prevWBS,".","`",1))),prevWBS&".1",LEFT(prevWBS,FIND("`",SUBSTITUTE(prevWBS,".","`",1)))&IF(ISERROR(FIND("`",SUBSTITUTE(prevWBS,".","`",2))),VALUE(RIGHT(prevWBS,LEN(prevWBS)-FIND("`",SUBSTITUTE(prevWBS,".","`",1))))+1,VALUE(MID(prevWBS,FIND("`",SUBSTITUTE(prevWBS,".","`",1))+1,(FIND("`",SUBSTITUTE(prevWBS,".","`",2))-FIND("`",SUBSTITUTE(prevWBS,".","`",1))-1)))+1))) -> 4.4 | B26: Long term improvement plan recommendation | C26: XXX | D26: XXX | E26: 43935 | F26: =IF(ISBLANK(E26)," - ",IF(G26=0,E26,E26+G26-1)) -> 43935 | G26: 1 | H26: 0 | I26: =IF(OR(F26=0,E26=0)," - ",NETWORKDAYS(E26,F26)) -> 1
A27: =IF(ISERROR(VALUE(SUBSTITUTE(prevWBS,".",""))),"0.1",IF(ISERROR(FIND("`",SUBSTITUTE(prevWBS,".","`",1))),prevWBS&".1",LEFT(prevWBS,FIND("`",SUBSTITUTE(prevWBS,".","`",1)))&IF(ISERROR(FIND("`",SUBSTITUTE(prevWBS,".","`",2))),VALUE(RIGHT(prevWBS,LEN(prevWBS)-FIND("`",SUBSTITUTE(prevWBS,".","`",1))))+1,VALUE(MID(prevWBS,FIND("`",SUBSTITUTE(prevWBS,".","`",1))+1,(FIND("`",SUBSTITUTE(prevWBS,".","`",2))-FIND("`",SUBSTITUTE(prevWBS,".","`",1))-1)))+1))) -> 4.5 | B27: Executives presentation slides preparation | C27: XXX | D27: XXX | E27: 43936 | F27: =IF(ISBLANK(E27)," - ",IF(G27=0,E27,E27+G27-1)) -> 43936 | G27: 1 | H27: 0 | I27: =IF(OR(F27=0,E27=0)," - ",NETWORKDAYS(E27,F27)) -> 1
A28: =IF(ISERROR(VALUE(SUBSTITUTE(prevWBS,".",""))),"1",IF(ISERROR(FIND("`",SUBSTITUTE(prevWBS,".","`",1))),TEXT(VALUE(prevWBS)+1,"#"),TEXT(VALUE(LEFT(prevWBS,FIND("`",SUBSTITUTE(prevWBS,".","`",1))-1))+1,"#"))) -> 5 | B28: Project Closure | F28: =IF(ISBLANK(E28)," - ",IF(G28=0,E28,E28+G28-1)) -> - | I28: =IF(OR(F28=0,E28=0)," - ",NETWORKDAYS(E28,F28)) -> -
A29: =IF(ISERROR(VALUE(SUBSTITUTE(prevWBS,".",""))),"0.1",IF(ISERROR(FIND("`",SUBSTITUTE(prevWBS,".","`",1))),prevWBS&".1",LEFT(prevWBS,FIND("`",SUBSTITUTE(prevWBS,".","`",1)))&IF(ISERROR(FIND("`",SUBSTITUTE(prevWBS,".","`",2))),VALUE(RIGHT(prevWBS,LEN(prevWBS)-FIND("`",SUBSTITUTE(prevWBS,".","`",1))))+1,VALUE(MID(prevWBS,FIND("`",SUBSTITUTE(prevWBS,".","`",1))+1,(FIND("`",SUBSTITUTE(prevWBS,".","`",2))-FIND("`",SUBSTITUTE(prevWBS,".","`",1))-1)))+1))) -> 5.1 | B29: Service components unmounting | C29: XXX | D29: XXX | E29: 43937 | F29: =IF(ISBLANK(E29)," - ",IF(G29=0,E29,E29+G29-1)) -> 43937 | G29: 1 | H29: 0 | I29: =IF(OR(F29=0,E29=0)," - ",NETWORKDAYS(E29,F29)) -> 1
I30: =IF(OR(F30=0,E30=0)," - ",NETWORKDAYS(E30,F30)) -> -

Sheet Delivery Plan
A1: Week | B1: Activity | C1: Service Content | D1: Lead | E1: Predecessor | F1: Start Date | G1: End Date
A2: 1 | B2: ='Gantt Chart'!B8 -> Kick Off Meeting | C2: ='Gantt Chart'!B9 -> Define service scope, service content and delivery plan | D2: ='Gantt Chart'!C9 -> XXX | E2: ='Gantt Chart'!D9 -> XXX | F2: ='Gantt Chart'!E9 -> 43910 | G2: ='Gantt Chart'!F9 -> 43910
A3: 1 | C3: ='Gantt Chart'!B10 -> Gather end user requirements | D3: ='Gantt Chart'!C10 -> XXX | E3: ='Gantt Chart'!D10 -> XXX | F3: ='Gantt Chart'!E10 -> 43910 | G3: ='Gantt Chart'!F10 -> 43910
A4: 1 | C4: ='Gantt Chart'!B11 -> Confirm end user's network architecture | D4: ='Gantt Chart'!C11 -> XXX | E4: ='Gantt Chart'!D11 -> XXX | F4: ='Gantt Chart'!E11 -> 43910 | G4: ='Gantt Chart'!F11 -> 43910
A5: 1 | B5: ='Gantt Chart'!B12 -> Service Components Mounting | C5: ='Gantt Chart'!B13 -> Mount service components | D5: ='Gantt Chart'!C13 -> XXX | E5: ='Gantt Chart'!D13 -> XXX | F5: ='Gantt Chart'!E13 -> 43914 | G5: ='Gantt Chart'!F13 -> 43914
A6: 1 | C6: ='Gantt Chart'!B14 -> Configure the settings of components ensure connectivity in order | D6: ='Gantt Chart'!C14 -> XXX | E6: ='Gantt Chart'!D14 -> XXX | F6: ='Gantt Chart'!E14 -> 43914 | G6: ='Gantt Chart'!F14 -> 43914
A7: 1 | C7: ='Gantt Chart'!B15 -> Verify licenses, serial number, policies and rule base are in order | D7: ='Gantt Chart'!C15 -> XXX | E7: ='Gantt Chart'!D15 -> XXX | F7: ='Gantt Chart'!E15 -> 43914 | G7: ='Gantt Chart'!F15 -> 43914
A8: 1 | C8: ='Gantt Chart'!B16 -> Fine tuning service to ensure no false positives | D8: ='Gantt Chart'!C16 -> XXX | E8: ='Gantt Chart'!D16 -> XXX | F8: ='Gantt Chart'!E16 -> 43917 | G8: ='Gantt Chart'!F16 -> 43917
A9: 1 - 3 | B9: ='Gantt Chart'!B17 -> Threat Monitoring and Analysis Service | C9: ='Gantt Chart'!B18 -> Network threat monitoring and analysis | D9: ='Gantt Chart'!C18 -> XXX | E9: ='Gantt Chart'!D18 -> XXX | F9: ='Gantt Chart'!E18 -> 43914 | G9: ='Gantt Chart'!F18 -> 43927
A10: 3 | C10: ='Gantt Chart'!B19 -> Onsite deep threat analysis | D10: ='Gantt Chart'!C19 -> XXX | E10: ='Gantt Chart'!D19 -> XXX | F10: ='Gantt Chart'!E19 -> 43927 | G10: ='Gantt Chart'!F19 -> 43929
A11: 3 | C11: ='Gantt Chart'!B20 -> Onsite security event diagnosis | D11: ='Gantt Chart'!C20 -> XXX | E11: ='Gantt Chart'!D20 -> XXX | F11: ='Gantt Chart'!E20 -> 43927 | G11: ='Gantt Chart'!F20 -> 43929
A12: 3 | C12: ='Gantt Chart'!B21 -> Technical discussion | D12: ='Gantt Chart'!C21 -> XXX | E12: ='Gantt Chart'!D21 -> XXX | F12: ='Gantt Chart'!E21 -> 43930 | G12: ='Gantt Chart'!F21 -> 43930
A13: 3 - 4 | B13: ='Gantt Chart'!B22 -> Executives Presentation | C13: ='Gantt Chart'!B23 -> Report preparation | D13: ='Gantt Chart'!C23 -> XXX | E13: ='Gantt Chart'!D23 -> XXX | F13: ='Gantt Chart'!E23 -> 43931 | G13: ='Gantt Chart'!F23 -> 43936
A14: 3 | C14: ='Gantt Chart'!B24 -> Business Impact Analysis (BIA) | D14: ='Gantt Chart'!C24 -> XXX | E14: ='Gantt Chart'!D24 -> XXX | F14: ='Gantt Chart'!E24 -> 43931 | G14: ='Gantt Chart'!F24 -> 43931
A15: 4 | C15: ='Gantt Chart'!B25 -> Gap analysis | D15: ='Gantt Chart'!C25 -> XXX | E15: ='Gantt Chart'!D25 -> XXX | F15: ='Gantt Chart'!E25 -> 43934 | G15: ='Gantt Chart'!F25 -> 43934
A16: 4 | C16: ='Gantt Chart'!B26 -> Long term improvement plan recommendation | D16: ='Gantt Chart'!C26 -> XXX | E16: ='Gantt Chart'!D26 -> XXX | F16: ='Gantt Chart'!E26 -> 43935 | G16: ='Gantt Chart'!F26 -> 43935
A17: 4 | C17: ='Gantt Chart'!B27 -> Executives presentation slides preparation | D17: ='Gantt Chart'!C27 -> XXX | E17: ='Gantt Chart'!D27 -> XXX | F17: ='Gantt Chart'!E27 -> 43936 | G17: ='Gantt Chart'!F27 -> 43936
A18: 4 | B18: ='Gantt Chart'!B28 -> Project Closure | C18: ='Gantt Chart'!B29 -> Service components unmounting | D18: ='Gantt Chart'!C29 -> XXX | E18: ='Gantt Chart'!D29 -> XXX | F18: ='Gantt Chart'!E29 -> 43937 | G18: ='Gantt Chart'!F29 -> 43937

Sheet Service Scope
A1: Service Scope | B1: Service Contents
A2: Malware Events | B2: To identify the hidden malware within the internal network that might not be visible to security products and have lateral movement to other hosts Examples: Ransomware, mining virus, CnC communication, trojan
A3: Attack Events | B3: Analyze the network traffics that contain attack patterns that Examples: webshell attack, brute force attack, SQL injections
A4: Vulnerability Events | B4: Identify the vulnerabilities of applications and hosts that could affect the security status Examples: outdated / unsupported software version, unhardened service configurations
A5: Abnormal Behavior Events | B5: Identify the presense of insecure practices and network abnormalies before they turn into real security incidents. Examples: port scanning events, abnormal traffic behaviors
A6: Protocol Audit | B6: Identify the presence of insecure or high risk ports in the networks and perform the auditing on the protocols against industry best practices. Examples: SMB version 1, plain text ports such as HTTP or FTP
