Workbook

Sheet Cover Page
A2: Ransomware Protection Assessment Scoring Sheet
A3: Company Name | E3: please fill in the blanks
A4: Document Name | B4: Ransomware Protection Assessment Scoring Sheet
A5: Document ID | B5: SFSS-MSS-RP0101
A6: Version | B6: 1
A7: Assessment Date | B7: =TODAY() -> 43875
A8: Created By | B8: Jeffrey Lee
A9: Reviewed By | B9: Sangfor MSS Team

Sheet Company Details
A1: Company Details
A2: Organization Size | E2: Please select one
A3: Nature of Business | E3: Please select one
B4: Others (please specify)
A5: Overall IT Spending Power | E5: Please select one
A6: Feedback / Suggestions | E6: Please fill in the blank (Optional)

Sheet Overview
A1: Ransomware Protection Assessment Overview
A2: Overall Status | C2: =IF(C10>80,"Low Risk",IF(C10>60,"Medium Risk","High Risk")) -> High Risk
A3: No. | B3: Category | C3: Scoring
A4: 1 | B4: Basic Defense Protection | C4: =SUM(Assessment!D4:D6) -> 0
A5: 2 | B5: Internet / Email Access Protection | C5: =SUM(Assessment!D8:D11) -> 0
A6: 3 | B6: Backup Availability Assurance | C6: =SUM(Assessment!D13:D15) -> 0
A7: 4 | B7: Network Layer Security | C7: =SUM(Assessment!D17:D20) -> 0
A8: 5 | B8: Best Practice Security | C8: =SUM(Assessment!D22:D28) -> 0
A9: 6 | B9: Monitoring / Threat Intelligence / Response | C9: =SUM(Assessment!D30:D33) -> 0
A10: Total | C10: =SUM(C4:C9) -> 0
A11: Risk Level
A12: Level | B12: Description
A13: High | B13: The organization does not have a reasonable level of security in place to protect the network and endpoints and also lacks sufficient standard operational procedures in line with industry best practices, allowing successful Ransomware attacks to cause a high level of damage and negative impact to the organization.
A14: Medium | B14: The organization lacks a reasonable level of security protection for the network and endpoints. Due to these insufficient standard operational procedures which are not in line with industry best practices, the organization has certain vulnerabilities and risks, easily exploited by ransomware attacks. A successful Ransomware attack will certainly cause a high level of damage and negative impact to the organization.
A15: Low | B15: An organization falling under this category has an insufficient level of security mechanisms protecting network and endpoints, but follows standard operating procedures in line with industry best practices. A successful ransomware attack would cause minimal damage and impact to the organisation.

Sheet Assessment
A1: Ransomware Protection Assessment Scoring | F1: Please choose accordingly
A2: No. | B2: Ransomware Protection Assessment Questions | C2: Response | D2: Scoring
B3: Basic Defense Protection
A4: 1 | B4: Do you have network perimeter defense against ingress or egress traffics, such as a firewall in place? | D4: =IF(C4="Yes",4,IF(C4="Some",2,IF(C4="No / Uncertain",0,0))) -> 0
A5: 2 | B5: Do you have an enterprise / paid / subscription version of antivirus installed on every endpoint, including employees' PCs and servers? | D5: =IF(C5="Yes",4,IF(C5="Some",2,IF(C5="No / Uncertain",0,0))) -> 0
A6: 3 | B6: Does the antivirus signature database update on a regular basis? | D6: =IF(C6="Yes",4,IF(C6="Some",2,IF(C6="No / Uncertain",0,0))) -> 0
B7: Internet / Email Access Protection
A8: 4 | B8: Does the internal network, including both employees' PCs and servers, have direct and free access to the Internet without restriction? | D8: =IF(C8="Yes",0,IF(C8="Some",2,IF(C8="No",4,0))) -> 0
A9: 5 | B9: Can the internal network, including both employees' PCs and servers, have access to limitless downloads including executable files, from the Internet? | D9: =IF(C9="Yes",0,IF(C9="Some",2,IF(C9="No",4,0))) -> 0
A10: 6 | B10: Do you have a network security protection mechanism designed to protect against spamming and phishing emails? | D10: =IF(C10="Yes",4,IF(C10="Some",2,IF(C10="No / Uncertain",0,0))) -> 0
A11: 7 | B11: Do you have restrictions on file downloading, including executable files, from email attachments? | D11: =IF(C11="Yes",4,IF(C11="Some",2,IF(C11="No / Uncertain",0,0))) -> 0
B12: Backup Availability Assurance
A13: 8 | B13: Do all servers supporting critical business operation have backup servers? | D13: =IF(C13="Yes",4,IF(C13="Some",2,IF(C13="No / Uncertain",0,0))) -> 0
A14: 9 | B14: Do all servers supporting critical business operation have active passive and load balancers to ensure availability? | D14: =IF(C14="Yes",4,IF(C14="Some",2,IF(C14="No / Uncertain",0,0))) -> 0
A15: 10 | B15: Are backup servers located in another network segment, protected by network security protection mechanism? | D15: =IF(C15="Yes",4,IF(C15="Some",2,IF(C15="No / Uncertain",0,0))) -> 0
B16: Network Layer Security
A17: 11 | B17: Do you have a separate network for DeMilitarised Zone (DMZ), backend and internal? | D17: =IF(C17="Yes",4,IF(C17="Some",2,IF(C17="No / Uncertain",0,0))) -> 0
A18: 12 | B18: Do you have network segmentation, including VLAN segregation within your organisational network? | D18: =IF(C18="Yes",4,IF(C18="Some",2,IF(C18="No / Uncertain",0,0))) -> 0
A19: 13 | B19: Are you able to monitor possible threats within the internal network? | D19: =IF(C19="Yes",4,IF(C19="Some",2,IF(C19="No / Uncertain",0,0))) -> 0
A20: 14 | B20: Are there any inactive / idle hosts facing externally and exposed to the Internet? | D20: =IF(C20="Yes",0,IF(C20="Some",2,IF(C20="No",4,0))) -> 0
B21: Best Practice Security
A22: 15 | B22: Do you patch systems and PCs regularly? | D22: =IF(C22="Yes",4,IF(C22="Some",2,IF(C22="No / Uncertain",0,0))) -> 0
A23: 16 | B23: Do you update installed software and applications to the latest version and patch on a regular basis? | D23: =IF(C23="Yes",4,IF(C23="Some",2,IF(C23="No / Uncertain",0,0))) -> 0
A24: 17 | B24: Are you aware of unauthorized software installed on servers and PCs? | D24: =IF(C24="Yes",4,IF(C24="Some",2,IF(C24="No / Uncertain",0,0))) -> 0
A25: 18 | B25: Do unnecessary ports / services face externally or are they exposed to Internet (ex. 1433/TCP, 3306/TCP)? | D25: =IF(C25="Yes",0,IF(C25="Some",2,IF(C25="No",4,0))) -> 0
A26: 19 | B26: Do remote desktop protocol (RDP) (port 3389/TCP), file sharing protocol (port 22/TCP, 445/TCP), or similar alternatives face externally or are they exposed to Internet? | D26: =IF(C26="Yes",0,IF(C26="Some",2,IF(C26="No",4,0))) -> 0
A27: 20 | B27: Do you perform security assessments like vulnerability assessments on organisational assets on a regular basis? | D27: =IF(C27="Yes",4,IF(C27="Some",2,IF(C27="No / Uncertain",0,0))) -> 0
A28: 21 | B28: Do you have a password complexity policy in place? | D28: =IF(C28="Yes",4,IF(C28="Some",2,IF(C28="No / Uncertain",0,0))) -> 0
B29: Monitoring / Threat Intelligence / Response
A30: 22 | B30: Do you have real time threat intelligence on most recent ransomware and threats? | D30: =IF(C30="Yes",4,IF(C30="Some",2,IF(C30="No / Uncertain",0,0))) -> 0
A31: 23 | B31: Are you aware if a security incident occurs? | D31: =IF(C31="Yes",4,IF(C31="Some",2,IF(C31="No / Uncertain",0,0))) -> 0
A32: 24 | B32: Are you aware of internal threats or east-west attacks that occur in the organization? | D32: =IF(C32="Yes",4,IF(C32="Some",2,IF(C32="No / Uncertain",0,0))) -> 0
A33: 25 | B33: Can you determine the kill chain, should a security incident occur? | D33: =IF(C33="Yes",4,IF(C33="Some",2,IF(C33="No / Uncertain",0,0))) -> 0

Sheet Best Practices
A1: Ransomware Protection Best Practices
A3: Back up important data regularly | B3: Download and execute unknown files
A4: Apply latest security patches to host, software and application | B4: Expose unnecessary ports and services to the Internet
A5: Conduct security assessment periodically | B5: Install unauthorized and unknown software
A6: Implement VLAN segmentation and separate servers logically | B6: Use weak and guessable password
A7: Implement firewall and install antivirus on every host
A8: Regularly review firewall security policies
A9: Apply access controls over Internet browsing
